BEGIN:VCALENDAR
VERSION:2.0
PRODID:-//Intand Corporation//Tandem//EN
METHOD:PUBLISH
BEGIN:VEVENT
DTSTAMP:20260424T100928Z
DTSTART:20260424T210000Z
DTEND:20260424T220000Z
TRANSP:TRANSPARENT
PRIORITY:0
SUMMARY:Varsity Baseball at Pandora-Gilboa High School
LOCATION:PANDORA-GILBOA HIGH SCHOOL
DESCRIPTION:Groups:\nArcadia HS Boys Varsity Baseball (Away)\n\nSchools:\n
 PANDORA-GILBOA HIGH SCHOOL (Home)\nAllen East High School (Home)\nArcadia 
 High School (Away)\n\nLocation:\nPANDORA-GILBOA HIGH SCHOOL\n\n
URL;VALUE=URI:http://arcadialocalschools.tandem.co/index.php?type=view&act
 ion=event&id=2357707
CREATED:20260108T200839Z
LAST-MODIFIED:20260422T230815Z
UID:event-2357707-arcadialocalschools@intand.com
END:VEVENT
END:VCALENDAR
