BEGIN:VCALENDAR
VERSION:2.0
PRODID:-//Intand Corporation//Tandem//EN
METHOD:PUBLISH
BEGIN:VEVENT
DTSTAMP:20260424T114956Z
DTSTART:20260508T210000Z
DTEND:20260508T220000Z
TRANSP:TRANSPARENT
PRIORITY:0
SUMMARY:Varsity Softball vs. Ada High School
LOCATION:UNKNOWN
DESCRIPTION:Groups:\nArcadia HS Girls Varsity Softball (Home)\n\nSchools:\
 nADA HIGH SCHOOL (Away)\nArcadia High School (Home)\n\nLocation:\nUNKNOWN\
 n\n
URL;VALUE=URI:http://arcadialocalschools.tandem.co/index.php?type=view&act
 ion=event&id=2404058
CREATED:20260226T200926Z
LAST-MODIFIED:20260226T200926Z
UID:event-2404058-arcadialocalschools@intand.com
END:VEVENT
END:VCALENDAR
