BEGIN:VCALENDAR
VERSION:2.0
PRODID:-//Intand Corporation//Tandem//EN
METHOD:PUBLISH
BEGIN:VEVENT
DTSTAMP:20260424T083643Z
DTSTART:20260331T190000Z
DTEND:20260331T200000Z
TRANSP:TRANSPARENT
PRIORITY:0
SUMMARY:HS/JH Track Lifting
LOCATION:Weight Room - Beeson Memorial Athletics Bldg.
DESCRIPTION:Location:\nWeight Room - Beeson Memorial Athletics Bldg.\n\n
URL;VALUE=URI:http://arcadialocalschools.tandem.co/index.php?type=view&act
 ion=event&id=2409948
CREATED:20260305T092535Z
LAST-MODIFIED:20260309T122548Z
UID:event_request-2409948-arcadialocalschools@intand.com
END:VEVENT
END:VCALENDAR
