BEGIN:VCALENDAR
VERSION:2.0
PRODID:-//Intand Corporation//Tandem//EN
METHOD:PUBLISH
BEGIN:VEVENT
DTSTAMP:20260424T083642Z
DTSTART:20260404T150000Z
DTEND:20260404T170000Z
TRANSP:TRANSPARENT
PRIORITY:0
SUMMARY:HS/JH Track Lifting
LOCATION:Weight Room - Beeson Memorial Athletics Bldg.
DESCRIPTION:Location:\nWeight Room - Beeson Memorial Athletics Bldg.\n\n
URL;VALUE=URI:http://arcadialocalschools.tandem.co/index.php?type=view&act
 ion=event&id=2409970
CREATED:20260305T092641Z
LAST-MODIFIED:20260309T122548Z
UID:event_request-2409970-arcadialocalschools@intand.com
END:VEVENT
END:VCALENDAR
