BEGIN:VCALENDAR
VERSION:2.0
PRODID:-//Intand Corporation//Tandem//EN
METHOD:PUBLISH
BEGIN:VEVENT
DTSTAMP:20260419T141427Z
DTSTART:20260403T173000Z
DTEND:20260403T193000Z
TRANSP:TRANSPARENT
PRIORITY:0
SUMMARY:HS Baseball Practice
LOCATION:Arcadia Local Schools > Gymnasium Room 117
DESCRIPTION:Location:\nArcadia Local Schools > Gymnasium Room 117\n\n
URL;VALUE=URI:http://arcadialocalschools.tandem.co/index.php?type=view&act
 ion=event&id=2434264
CREATED:20260402T161551Z
LAST-MODIFIED:20260413T133317Z
UID:event_request-2434264-arcadialocalschools@intand.com
END:VEVENT
END:VCALENDAR
